BEGIN:VCALENDAR
VERSION:2.0
PRODID:icalendar-ruby
CALSCALE:GREGORIAN
METHOD:PUBLISH
BEGIN:VEVENT
DTSTAMP:20260424T082602Z
UID:531-15657514@stpeterscampbellriver.com
DTSTART:20261004T170000Z
DTEND:20261004T180000Z
CLASS:PUBLIC
CREATED:20260422T104539
DESCRIPTION:On Sundays\, we offer a hybrid service so that those prevented 
 from attending in-person\, for whatever reason\, are able to be among us v
 ia Zoom.  \nCommunion is offered at the front station\; there are gluten
  free wafers for those who need them\, and those with mobility concerns ma
 y be served in the pew.   \nThis is the link to our service leaflets: We
 ekly Bulletins\nThe bulletin is also attached below as a PDF downloadable 
 document. Even if you are not joining us today in person\, or via Zoom ple
 ase enjoy the bulletin. It contains the links to our bible passages as wel
 l as current announcements of church activities.\nJOIN ZOOM MEETING\n\nhtt
 ps://us06web.zoom.us/j/81674662027?pwd=OnRp57l8WlFWkI9LeT1Pzn07pjiIsi.1\nM
 EETING ID: 816 7466 2027\n
LAST-MODIFIED:20260422T104539
LOCATION:St. Peter Anglican Church & Via Zoom
SUMMARY:Sunday Service
URL;VALUE=URI:https://www.stpeterscampbellriver.com/events/sunday-service--
 531/2026-10-04
ATTACH;FILENAME=04 April26_FourthdSundayof Easter (5).png;FMTTYPE=image/png
 :https://dq5pwpg1q8ru0.cloudfront.net/2026/04/22/17/45/38/935d5e2a-dfb5-49
 e4-9e66-0824200cf378/04%20April26_FourthdSundayof%20Easter%20(5).png
ATTACH;FILENAME="April 26, 2026 Fourth Sunday of Easter.pdf";FMTTYPE=applic
 ation/pdf:https://dq5pwpg1q8ru0.cloudfront.net/2026/04/22/17/45/37/8ef5f50
 7-814b-4b7e-91e9-5a40f07a31ff/April%2026,%202026%20Fourth%20Sunday%20of%20
 Easter.pdf
END:VEVENT
END:VCALENDAR
