BEGIN:VCALENDAR
VERSION:2.0
PRODID:icalendar-ruby
CALSCALE:GREGORIAN
METHOD:PUBLISH
BEGIN:VEVENT
DTSTAMP:20260425T130959Z
UID:547-15786980@stpeterscampbellriver.com
DTSTART:20260929T013000Z
DTEND:20260929T020000Z
CLASS:PUBLIC
CREATED:20260425T055104
DESCRIPTION:Evening Prayer\, led by Kristina Melvin\, is offered weekly on 
 Monday evenings at 6:30 pm. \n Evening Prayer can be wonderful way to tra
 nsition from the' busyness' of the day - a reflection on what has happened
 \, and an opportunity to express gratitude and build anticipation for the 
 next day. All are welcome.\n 
LAST-MODIFIED:20260425T055104
LOCATION:St. Peter Anglican Church 
SUMMARY:Evening Prayer
URL;VALUE=URI:https://www.stpeterscampbellriver.com/events/evening-prayer--
 547/2026-09-28
ATTACH;FILENAME=Evening Prayer(revised).png;FMTTYPE=image/png:https://dq5pw
 pg1q8ru0.cloudfront.net/2025/12/10/18/25/25/a331df8c-e7ae-4fae-9f30-7c5505
 5d265f/Evening%20Prayer(revised).png
END:VEVENT
END:VCALENDAR
